BEGIN:VCALENDAR
VERSION:2.0
PRODID:-//サイエンスヒルズこまつ - ECPv3.9.1//NONSGML v1.0//EN
CALSCALE:GREGORIAN
METHOD:PUBLISH
X-WR-CALNAME:サイエンスヒルズこまつ
X-ORIGINAL-URL:https://science-hills-komatsu.jp/wp
X-WR-CALDESC:Events for サイエンスヒルズこまつ
X-WR-TIMEZONE:Asia/Tokyo
BEGIN:VEVENT
DTSTART;VALUE=DATE-TIME:20250407T093000
DTEND;VALUE=DATE-TIME:20250407T180000
DTSTAMP:20260422T033038
CREATED:20250316T140640
LAST-MODIFIED:20250316T140640
UID:37488-1744018200-1744048800@https://science-hills-komatsu.jp/wp
SUMMARY:休館日
DESCRIPTION:
URL:https://science-hills-komatsu.jp/wp/event/37488/2025-04-07/
CATEGORIES:休館日
END:VEVENT
END:VCALENDAR