BEGIN:VCALENDAR
VERSION:2.0
PRODID:-//サイエンスヒルズこまつ - ECPv3.9.1//NONSGML v1.0//EN
CALSCALE:GREGORIAN
METHOD:PUBLISH
X-WR-CALNAME:サイエンスヒルズこまつ
X-ORIGINAL-URL:https://science-hills-komatsu.jp/wp
X-WR-CALDESC:Events for サイエンスヒルズこまつ
X-WR-TIMEZONE:Asia/Tokyo
BEGIN:VEVENT
DTSTART;VALUE=DATE-TIME:20241104T093000
DTEND;VALUE=DATE-TIME:20241104T170000
DTSTAMP:20260424T143118
CREATED:20241006T111909
LAST-MODIFIED:20241006T112302
UID:36224-1730712600-1730739600@https://science-hills-komatsu.jp/wp
SUMMARY:巡回展示展　ピッタリ！しきつめパズル(申込不要)
DESCRIPTION:企画・製作：横浜こども科学館  協力：全国科学館連携協議会  　同じ形のものを並べていくという単純な作業の中に、規則性を見出したり、自分の創造性を発揮したりといろいろな発見があります。このパズルの特徴は既存の図形と異なり、しきつめて並べていっても、繰り返しパターンが現れません。解説パネルをヒントに様々な敷き詰めパターンを自分自身で発見してみましょう。
URL:https://science-hills-komatsu.jp/wp/event/36221/2024-11-04/
CATEGORIES:イベント情報
ATTACH;FMTTYPE=image/jpeg:https://science-hills-komatsu.jp/wp/wp-content/uploads/2024/10/image.jpg
END:VEVENT
BEGIN:VEVENT
DTSTART;VALUE=DATE-TIME:20241104T100000
DTEND;VALUE=DATE-TIME:20241104T160000
DTSTAMP:20260424T143118
CREATED:20241008T111036
LAST-MODIFIED:20241008T111036
UID:36278-1730714400-1730736000@https://science-hills-komatsu.jp/wp
SUMMARY:体験教室「蓮凧を作って飛ばそう」（事前申込・先着順）
DESCRIPTION:  講師：当館職員・科学教育専門員　貝田 明による体験教室です。  いくつもの凧がたてにつながった蓮凧を、自分の手で作って広い所で飛ばしましょう。  お申込みはこちら　※10/20(日)午前８時ご予約開始。赤色の予約ボタンが表示されます。
URL:https://science-hills-komatsu.jp/wp/event/36278/
CATEGORIES:イベント情報
ATTACH;FMTTYPE=image/png:https://science-hills-komatsu.jp/wp/wp-content/uploads/2024/10/rendako.png
END:VEVENT
BEGIN:VEVENT
DTSTART;VALUE=DATE-TIME:20241104T131000
DTEND;VALUE=DATE-TIME:20241104T144000
DTSTAMP:20260424T143118
CREATED:20241008T110251
LAST-MODIFIED:20241008T110251
UID:36277-1730725800-1730731200@https://science-hills-komatsu.jp/wp
SUMMARY:体験教室「ほとんど落ちない車」（事前申込・先着順）
DESCRIPTION:講師：当館職員・科学教育専門員　﨑川誠一による体験教室です。  床の上ではまっすぐ走りますが、板に乗せるとくるくる回って落ちない不思議な車を作ります。歯車を使ってまっすぐ前に進むタイヤと同時に横に回るためのタイヤを動かすことがポイントです。少し難しい工作ですが挑戦してみませんか。  お申込はこちら　※10/20(日)午前8時ご予約開始。赤色の予約ボタンが表示されます。      &nbsp;  &nbsp;
URL:https://science-hills-komatsu.jp/wp/event/36272/2024-11-04/
CATEGORIES:イベント情報
ATTACH;FMTTYPE=image/jpeg:https://science-hills-komatsu.jp/wp/wp-content/uploads/2024/10/IMG_9063.jpg
END:VEVENT
BEGIN:VEVENT
DTSTART;VALUE=DATE-TIME:20241104T230000
DTEND;VALUE=DATE-TIME:20241104T230000
DTSTAMP:20260424T143118
CREATED:20241027T174701
LAST-MODIFIED:20241027T174701
UID:36598-1730761200-1730761200@https://science-hills-komatsu.jp/wp
SUMMARY:11/4(月)3Dスタジオ上映スケジュール
DESCRIPTION:11/4(月祝)3Dスタジオ上映スケジュール  10:40 くまのがっこう  11:30 皇帝ペンギン  12:20 名探偵コナン  13:10 コズミックサンダー  14:00 発見！南極に恐竜がいた！  14:50 SLは未来のスペースランチャー  15:40 名探偵コナン  16:30 ゴッホが描いた星空  
URL:https://science-hills-komatsu.jp/wp/event/36598/
ATTACH;FMTTYPE=image/png:https://science-hills-komatsu.jp/wp/wp-content/uploads/2024/08/planetarium.png
END:VEVENT
END:VCALENDAR