BEGIN:VCALENDAR
VERSION:2.0
PRODID:-//サイエンスヒルズこまつ - ECPv3.9.1//NONSGML v1.0//EN
CALSCALE:GREGORIAN
METHOD:PUBLISH
X-WR-CALNAME:サイエンスヒルズこまつ
X-ORIGINAL-URL:https://science-hills-komatsu.jp/wp
X-WR-CALDESC:Events for サイエンスヒルズこまつ
X-WR-TIMEZONE:Asia/Tokyo
BEGIN:VEVENT
DTSTART;VALUE=DATE-TIME:20240213T093000
DTEND;VALUE=DATE-TIME:20240213T170000
DTSTAMP:20260426T021828
CREATED:20230316T175245
LAST-MODIFIED:20230316T175245
UID:31810-1707816600-1707843600@https://science-hills-komatsu.jp/wp
SUMMARY:休館日
DESCRIPTION:
URL:https://science-hills-komatsu.jp/wp/event/31810/
CATEGORIES:休館日
END:VEVENT
END:VCALENDAR