BEGIN:VCALENDAR
VERSION:2.0
PRODID:-//サイエンスヒルズこまつ - ECPv3.9.1//NONSGML v1.0//EN
CALSCALE:GREGORIAN
METHOD:PUBLISH
X-WR-CALNAME:サイエンスヒルズこまつ
X-ORIGINAL-URL:https://science-hills-komatsu.jp/wp
X-WR-CALDESC:Events for サイエンスヒルズこまつ
X-WR-TIMEZONE:Asia/Tokyo
BEGIN:VEVENT
DTSTART;VALUE=DATE-TIME:20240212T093000
DTEND;VALUE=DATE-TIME:20240212T170000
DTSTAMP:20260426T033340
CREATED:20231222T094002
LAST-MODIFIED:20231222T094905
UID:33757-1707730200-1707757200@https://science-hills-komatsu.jp/wp
SUMMARY:1/4(木)～3/31(日)ありがとう10周年イベント特別展示『世界に誇る立体錯視アートのせかい』
DESCRIPTION:　同じ大きさのものが違う大きさに見えたり、同じ色のものが違う色に見えたりする、ものごとが事実とは違って見える現象のことを「錯視」といいます。いわゆる「目の錯覚」をさします。  錯覚クリエーターでおなじみの杉原厚吉教授が監修された展示が並びます。展示の一つにメディアでも取り上げられた、大型無限ループ階段があります。ビデオカメラを使って錯視を確認することができます。あなたは、何度見ても、見返してもやっぱりだまされてしまう…。いやいや、絶対にだまされないぞ！というあなた！！ヒルズに来て、自分自身の目を信じるか、それとも信じないのか、確かめてみよう。    ※展示のイメージ写真です。(他施設で実施された写真です)   
URL:https://science-hills-komatsu.jp/wp/event/33716/2024-02-12/
CATEGORIES:イベント情報
ATTACH;FMTTYPE=image/jpeg:https://science-hills-komatsu.jp/wp/wp-content/uploads/2023/12/9cba3d6acad389e3d8aa932539f74f0a.jpg
END:VEVENT
BEGIN:VEVENT
DTSTART;VALUE=DATE-TIME:20240212T103000
DTEND;VALUE=DATE-TIME:20240212T120000
DTSTAMP:20260426T033340
CREATED:20240112T083345
LAST-MODIFIED:20240117T052917
UID:34026-1707733800-1707739200@https://science-hills-komatsu.jp/wp
SUMMARY:体験教室「コントローラー付きロボットハンドを作ろう」（事前申込・先着順）
DESCRIPTION:ストローとひもを組み合わせて、人間の手と同じような関節と腱の仕組みを作ります。レバーを動かすと指が曲がるコントローラーも作ります。うまく操作するとじゃんけんができます。  お申込みはこちらから    [caption id="attachment_34047" align="alignleft" width="300"] コントローラー付きロボットハンド[/caption] [caption id="attachment_34046" align="alignleft" width="150"] じゃんけんの手[/caption]
URL:https://science-hills-komatsu.jp/wp/event/34025/2024-02-12/
CATEGORIES:イベント情報
END:VEVENT
BEGIN:VEVENT
DTSTART;VALUE=DATE-TIME:20240212T130000
DTEND;VALUE=DATE-TIME:20240212T140000
DTSTAMP:20260426T033340
CREATED:20240106T170308
LAST-MODIFIED:20240110T083155
UID:33920-1707742800-1707746400@https://science-hills-komatsu.jp/wp
SUMMARY:体験教室「空中にうかぶおもちゃづくりに挑戦しよう！」（当日受付・先着順）
DESCRIPTION:当館職員：科学教育専門員　谷　真良　による体験教室です。  空中にうかぶための色々な工夫を学びながら、手作りの「うかぶおもちゃ」づくりに挑戦します。うかんだときには拍手喝采。ヒルズのドローンの操縦も体験します。
URL:https://science-hills-komatsu.jp/wp/event/33920/2024-02-12/
CATEGORIES:イベント情報
ATTACH;FMTTYPE=image/jpeg:https://science-hills-komatsu.jp/wp/wp-content/uploads/2024/01/0784a0f98eefb0b044a546a7b81e8d2f.jpg
END:VEVENT
END:VCALENDAR