BEGIN:VCALENDAR
VERSION:2.0
PRODID:-//サイエンスヒルズこまつ - ECPv3.9.1//NONSGML v1.0//EN
CALSCALE:GREGORIAN
METHOD:PUBLISH
X-WR-CALNAME:サイエンスヒルズこまつ
X-ORIGINAL-URL:https://science-hills-komatsu.jp/wp
X-WR-CALDESC:Events for サイエンスヒルズこまつ
X-WR-TIMEZONE:Asia/Tokyo
BEGIN:VEVENT
DTSTART;VALUE=DATE-TIME:20230730T093000
DTEND;VALUE=DATE-TIME:20230730T170000
DTSTAMP:20260421T070246
CREATED:20230707T073359
LAST-MODIFIED:20230707T073359
UID:32616-1690709400-1690736400@https://science-hills-komatsu.jp/wp
SUMMARY:小松市内小中学校自由研究優秀作品展
DESCRIPTION:前年度の小松市小中学校自由研究優秀作品展を展示します。ぜひ参考にしてみてください。
URL:https://science-hills-komatsu.jp/wp/event/32608/2023-07-30/
ATTACH;FMTTYPE=image/jpeg:https://science-hills-komatsu.jp/wp/wp-content/uploads/2022/06/DSC08375.jpg
END:VEVENT
BEGIN:VEVENT
DTSTART;VALUE=DATE-TIME:20230730T103000
DTEND;VALUE=DATE-TIME:20230730T173000
DTSTAMP:20260421T070246
CREATED:20230601T114141
LAST-MODIFIED:20230606T151210
UID:32312-1690713000-1690738200@https://science-hills-komatsu.jp/wp
SUMMARY:特別イベント 「KAPLA®︎でアート創作を学ぼう！」
DESCRIPTION:  フランス生まれの木製ブロック、「カプラ®」をご存知ですか。ワンサイズの板をただ重ねるだけで、建物、乗り物、動物まで自由自在につくることができます。今回はインストラクターをお招きして、「カプラ®」についてもっと深く学び、体験します。造形の世界をみんなと一緒に楽しみましょう！  「KAPLA®」「カプラ®」は、KAPLA考案者トム・ブリューゲン氏が、EU\,日本ならびにその他の国において所有する登録商標です。登録商標は許諾を得て使用しています。  8/4(金)より、第10回全国KAPLA®大会に向けた作品を募集しますので、インストラクター指導の機会をお見逃しなく♪  &nbsp;  7/30(日)お申し込みはこちら  ※6/18(日)午前8時より受付開始。予約ボタンが表示されます。  &nbsp;
URL:https://science-hills-komatsu.jp/wp/event/32312/
CATEGORIES:イベント情報
ATTACH;FMTTYPE=image/jpeg:https://science-hills-komatsu.jp/wp/wp-content/uploads/2020/02/6e19834c023c2732d79ed3bdedbd6b5a-e1582684102971.jpg
END:VEVENT
BEGIN:VEVENT
DTSTART;VALUE=DATE-TIME:20230730T103000
DTEND;VALUE=DATE-TIME:20230730T163000
DTSTAMP:20260421T070246
CREATED:20230601T145806
LAST-MODIFIED:20230606T153026
UID:32406-1690713000-1690734600@https://science-hills-komatsu.jp/wp
SUMMARY:体験教室「スイカゼリーを作って食べよう」（事前申込・先着順）
DESCRIPTION:        講師：当館職員・科学教育専門員　貝田 明による体験教室です。大人気“食”のサイエンスシリーズ。  毎日必ず摂る“食”は、とくに気になりますよね！  夏にぴったり、スイカの入ったゼリーを作りましょう。自分で作る・知る・食べる楽しみを満喫しましょう！  お申込みはこちら　※6/18(日)午前８時ご予約開始。赤色の予約ボタンが表示されます。
URL:https://science-hills-komatsu.jp/wp/event/32400/2023-07-30/
CATEGORIES:イベント情報
ATTACH;FMTTYPE=image/png:https://science-hills-komatsu.jp/wp/wp-content/uploads/2023/06/77b90c4ea4429d708e46ae55ae9f55e0.png
END:VEVENT
BEGIN:VEVENT
DTSTART;VALUE=DATE-TIME:20230730T133000
DTEND;VALUE=DATE-TIME:20230730T150000
DTSTAMP:20260421T070246
CREATED:20230601T152526
LAST-MODIFIED:20230606T153225
UID:32416-1690723800-1690729200@https://science-hills-komatsu.jp/wp
SUMMARY:体験教室「長さの同じ木でおしゃれな台をつくろう！」（事前申込・先着順）
DESCRIPTION:   講師：当館職員・科学教育専門員　谷 真良　による体験教室です。  おうちでDIY！ステイホームが続く今、ご自身で何かを作ったり修繕したりされている方も多いはず。この教室では、長さの同じ木を16本組み合わせて、台を作ります。  ちょこっとした高さの台、あれば便利。だけどなかなかイメージと合うものが販売されていないなんて思うあなた！ぜひヒルズで一緒に作ってみましょう。  お申込みはこちら　※6/18(日)午前８時ご予約開始。赤色の予約ボタンが表示されます。     
URL:https://science-hills-komatsu.jp/wp/event/32415/2023-07-30/
CATEGORIES:イベント情報
ATTACH;FMTTYPE=image/jpeg:https://science-hills-komatsu.jp/wp/wp-content/uploads/2020/07/DSCN0010.jpg
END:VEVENT
END:VCALENDAR