BEGIN:VCALENDAR
VERSION:2.0
PRODID:-//サイエンスヒルズこまつ - ECPv3.9.1//NONSGML v1.0//EN
CALSCALE:GREGORIAN
METHOD:PUBLISH
X-WR-CALNAME:サイエンスヒルズこまつ
X-ORIGINAL-URL:https://science-hills-komatsu.jp/wp
X-WR-CALDESC:Events for サイエンスヒルズこまつ
X-WR-TIMEZONE:Asia/Tokyo
BEGIN:VEVENT
DTSTART;VALUE=DATE-TIME:20230723T093000
DTEND;VALUE=DATE-TIME:20230723T170000
DTSTAMP:20260421T070345
CREATED:20230707T073359
LAST-MODIFIED:20230707T073359
UID:32609-1690104600-1690131600@https://science-hills-komatsu.jp/wp
SUMMARY:小松市内小中学校自由研究優秀作品展
DESCRIPTION:前年度の小松市小中学校自由研究優秀作品展を展示します。ぜひ参考にしてみてください。
URL:https://science-hills-komatsu.jp/wp/event/32608/2023-07-23/
ATTACH;FMTTYPE=image/jpeg:https://science-hills-komatsu.jp/wp/wp-content/uploads/2022/06/DSC08375.jpg
END:VEVENT
BEGIN:VEVENT
DTSTART;VALUE=DATE-TIME:20230723T100000
DTEND;VALUE=DATE-TIME:20230723T153000
DTSTAMP:20260421T070345
CREATED:20230601T125927
LAST-MODIFIED:20230606T151420
UID:32316-1690106400-1690126200@https://science-hills-komatsu.jp/wp
SUMMARY:公立小松大学による相談会｢自由研究相談｣（当日受付）
DESCRIPTION:公立小松大学の先生方による相談会をヒルズで実施します。  以下は、実施を予定しております。  　7/22 午前　鈴木 郁斗 先生【臨床工学科】  　7/22 午後　村山 立人 先生【生産システム科学科】  　 7/23 午前  清 剛治 先生【国際文化交流学科】  　 7/23 午後　池田 槇治 先生【生産システム科学科】  午前は10：00～12：00、午後は13：30～15：30に実施。時間内ならいつでも相談にのります。  何を自由研究のテーマにするか、専門的な分野を聞きたい等小中学生を、ヒルズは力いっぱい応援します。  過去の小松市内小中学校自由研究優秀優秀作品も展示しますので、ぜひ参考にしてみてください。  この機会に、ワンランク上の研究になるように一緒に考えましょう。
URL:https://science-hills-komatsu.jp/wp/event/32314/2023-07-23/
CATEGORIES:イベント情報
ATTACH;FMTTYPE=image/jpeg:https://science-hills-komatsu.jp/wp/wp-content/uploads/2022/06/IMG_2589.jpg
END:VEVENT
BEGIN:VEVENT
DTSTART;VALUE=DATE-TIME:20230723T103000
DTEND;VALUE=DATE-TIME:20230723T153000
DTSTAMP:20260421T070345
CREATED:20230601T133019
LAST-MODIFIED:20230606T151802
UID:32353-1690108200-1690126200@https://science-hills-komatsu.jp/wp
SUMMARY:椎木昇先生による体験教室「ペットプレーンを作ろう」（事前申込・先着順）
DESCRIPTION:講師：椎木 昇先生による体験教室です。  お部屋を飾る、ペットボトルをつかった飛行機をつくりませんか。  風を受けると、プロペラがクルクル回転します。R1ペットボトルを使用した飛行機を2つ、作成します。  椎木先生と一緒に、ものづくりを楽しみませんか。90分集中して、ステキな飛行機を作りましょう♪  &nbsp;  7/23(日)お申込みはこちら   7/24(月)お申込みはこちら  ※6/18午前８時より、赤色のご予約ボタンが表示されます。  
URL:https://science-hills-komatsu.jp/wp/event/32353/2023-07-23/
CATEGORIES:イベント情報
ATTACH;FMTTYPE=image/jpeg:https://science-hills-komatsu.jp/wp/wp-content/uploads/2021/06/4094ded402faba14ecf5ed38f7f67f99.jpg
END:VEVENT
BEGIN:VEVENT
DTSTART;VALUE=DATE-TIME:20230723T133000
DTEND;VALUE=DATE-TIME:20230723T150000
DTSTAMP:20260421T070345
CREATED:20230601T132022
LAST-MODIFIED:20230606T151709
UID:32351-1690119000-1690124400@https://science-hills-komatsu.jp/wp
SUMMARY:石川県立大学中谷内修先生による体験教室｢ペーパークロマトグラフィーで遊ぼう！｣（事前申込・先着順）
DESCRIPTION:講師：石川県立大学 中谷内修先生     せいぶつを教えてくれる中谷内先生の体験教室です。     ペーパークロマトグラフィーによって混ざった色素を分離する実験を行います。条件を変えると分離の仕方が変わる事を体験し、濾紙上に様々な模様を作って遊びます。専門の先生から学んでみませんか。この機会に学びましょう！    お申込みはこちら※6/18(日)午前８時から予約開始。赤色の予約ボタンが表示されます。
URL:https://science-hills-komatsu.jp/wp/event/32351/
CATEGORIES:イベント情報
ATTACH;FMTTYPE=image/jpeg:https://science-hills-komatsu.jp/wp/wp-content/uploads/2022/06/629301b79a66819452e20682fa8becc0.jpg
END:VEVENT
END:VCALENDAR