BEGIN:VCALENDAR
VERSION:2.0
PRODID:-//サイエンスヒルズこまつ - ECPv3.9.1//NONSGML v1.0//EN
CALSCALE:GREGORIAN
METHOD:PUBLISH
X-WR-CALNAME:サイエンスヒルズこまつ
X-ORIGINAL-URL:https://science-hills-komatsu.jp/wp
X-WR-CALDESC:Events for サイエンスヒルズこまつ
X-WR-TIMEZONE:Asia/Tokyo
BEGIN:VEVENT
DTSTART;VALUE=DATE-TIME:20230722T093000
DTEND;VALUE=DATE-TIME:20230722T170000
DTSTAMP:20260421T070247
CREATED:20230707T073359
LAST-MODIFIED:20230707T073359
UID:32608-1690018200-1690045200@https://science-hills-komatsu.jp/wp
SUMMARY:小松市内小中学校自由研究優秀作品展
DESCRIPTION:前年度の小松市小中学校自由研究優秀作品展を展示します。ぜひ参考にしてみてください。
URL:https://science-hills-komatsu.jp/wp/event/32608/2023-07-22/
CATEGORIES:イベント情報
ATTACH;FMTTYPE=image/jpeg:https://science-hills-komatsu.jp/wp/wp-content/uploads/2022/06/DSC08375.jpg
END:VEVENT
BEGIN:VEVENT
DTSTART;VALUE=DATE-TIME:20230722T100000
DTEND;VALUE=DATE-TIME:20230722T153000
DTSTAMP:20260421T070247
CREATED:20230601T125927
LAST-MODIFIED:20230606T151420
UID:32314-1690020000-1690039800@https://science-hills-komatsu.jp/wp
SUMMARY:公立小松大学による相談会｢自由研究相談｣（当日受付）
DESCRIPTION:公立小松大学の先生方による相談会をヒルズで実施します。  以下は、実施を予定しております。  　7/22 午前　鈴木 郁斗 先生【臨床工学科】  　7/22 午後　村山 立人 先生【生産システム科学科】  　 7/23 午前  清 剛治 先生【国際文化交流学科】  　 7/23 午後　池田 槇治 先生【生産システム科学科】  午前は10：00～12：00、午後は13：30～15：30に実施。時間内ならいつでも相談にのります。  何を自由研究のテーマにするか、専門的な分野を聞きたい等小中学生を、ヒルズは力いっぱい応援します。  過去の小松市内小中学校自由研究優秀優秀作品も展示しますので、ぜひ参考にしてみてください。  この機会に、ワンランク上の研究になるように一緒に考えましょう。
URL:https://science-hills-komatsu.jp/wp/event/32314/2023-07-22/
CATEGORIES:イベント情報
ATTACH;FMTTYPE=image/jpeg:https://science-hills-komatsu.jp/wp/wp-content/uploads/2022/06/IMG_2589.jpg
END:VEVENT
BEGIN:VEVENT
DTSTART;VALUE=DATE-TIME:20230722T100000
DTEND;VALUE=DATE-TIME:20230722T233000
DTSTAMP:20260421T070247
CREATED:20230305T175452
LAST-MODIFIED:20230411T124325
UID:31558-1690020000-1690068600@https://science-hills-komatsu.jp/wp
SUMMARY:2023.4-7月スクール制・レゴプログラミング体験教室「Gコース・土曜クラス・小学４年生以上対象」（事前申込・抽選）
DESCRIPTION:小学4年生以上対象の上級レゴプログラミング教室です。レゴロボットで難しそうなことに挑戦したい人は、こちらに参加してください。新しいロボット、マインドストームスパイクプライムとタッチ式パソコンを使用します。スクール制で実施し、最初に選んだ時間帯で4回とも参加していただきます。2回目以降は前回の復習も取り入れるので、欠席した回の補講は行いません。  第1回　4月22日（土）　迷路を抜ける   第2回　5月27日（土）　間隔をキープ   第3回　6月24日（土）　なめらかライントレース   第4回　7月22日（土）　高度な数式制御  現在追加募集中　お申込みはこちら（４月２１日１７時まで）
URL:https://science-hills-komatsu.jp/wp/event/spqn230407spike-g/2023-07-22/
CATEGORIES:イベント情報
ATTACH;FMTTYPE=image/jpeg:https://science-hills-komatsu.jp/wp/wp-content/uploads/2023/03/SpikePrime.jpg
END:VEVENT
BEGIN:VEVENT
DTSTART;VALUE=DATE-TIME:20230722T100000
DTEND;VALUE=DATE-TIME:20230722T170000
DTSTAMP:20260421T070247
CREATED:20230306T041116
LAST-MODIFIED:20230322T064247
UID:31633-1690020000-1690045200@https://science-hills-komatsu.jp/wp
SUMMARY:2023.4月-7月スクール制・レゴプログラミング体験教室「Dコース・土曜日曜の午前①/午後②③クラス・小学3年生対象」（事前申込・抽選）
DESCRIPTION:プログラミング体験教室は、スクール制(曜日と時間を固定します)で実施します。  保護者の皆様へ必ずお読みください。対象や使用するツールが一部変更となっています。  教室参加の対象は、年長・小学1年・小学2年・小学3年・小学4年生以上に分かれます。すべてのクラスは、全4回となります。お申し込みの前にもう一度、対象とスケジュールをご確認ください。※お客様のご都合で参加されない場合は、振替教室は実施しませんので、ご了承ください。  　  年長クラスおよび小学1年生のクラスでは、レゴSPIKEベーシック＆iPad　を使用します。簡単な組み立てをして遊び感覚から、楽しくプログラミングにふれてみましょう♪        小学2年生では、レゴEV3&amp;iPad　を使用します。プログラミングについて、しっかり学びましょう。  小学3年生では、レゴSPIKEプライム＆タッチパネル式PCを使用予定です。簡単な組み立てとプログラミングを実施予定です。  ３月７日(火)～３月2１日(火祝)午後11時59分まで募集し、抽選により決定させていただきます。  &nbsp;  抽選の結果は、当選者には３月２６日(日)にHP「お知らせ」にて、“ご予約ID”を表示いたしますので、必ずお控えください。
URL:https://science-hills-komatsu.jp/wp/event/31604/2023-07-22/
CATEGORIES:イベント情報
ATTACH;FMTTYPE=image/jpeg:https://science-hills-komatsu.jp/wp/wp-content/uploads/2023/03/DSCN9994-01.jpg
END:VEVENT
END:VCALENDAR