BEGIN:VCALENDAR
VERSION:2.0
PRODID:-//サイエンスヒルズこまつ - ECPv3.9.1//NONSGML v1.0//EN
CALSCALE:GREGORIAN
METHOD:PUBLISH
X-WR-CALNAME:サイエンスヒルズこまつ
X-ORIGINAL-URL:https://science-hills-komatsu.jp/wp
X-WR-CALDESC:Events for サイエンスヒルズこまつ
X-WR-TIMEZONE:Asia/Tokyo
BEGIN:VEVENT
DTSTART;VALUE=DATE-TIME:20230718T093000
DTEND;VALUE=DATE-TIME:20230718T180000
DTSTAMP:20260421T070346
CREATED:20230316T172947
LAST-MODIFIED:20230316T172957
UID:31773-1689672600-1689703200@https://science-hills-komatsu.jp/wp
SUMMARY:一部開館
DESCRIPTION:
URL:https://science-hills-komatsu.jp/wp/event/31773/
CATEGORIES:一部開館
END:VEVENT
END:VCALENDAR