BEGIN:VCALENDAR
VERSION:2.0
PRODID:-//サイエンスヒルズこまつ - ECPv3.9.1//NONSGML v1.0//EN
CALSCALE:GREGORIAN
METHOD:PUBLISH
X-WR-CALNAME:サイエンスヒルズこまつ
X-ORIGINAL-URL:https://science-hills-komatsu.jp/wp
X-WR-CALDESC:Events for サイエンスヒルズこまつ
X-WR-TIMEZONE:Asia/Tokyo
BEGIN:VEVENT
DTSTART;VALUE=DATE-TIME:20230716T100000
DTEND;VALUE=DATE-TIME:20230716T170000
DTSTAMP:20260421T070346
CREATED:20230306T041116
LAST-MODIFIED:20230322T064247
UID:31632-1689501600-1689526800@https://science-hills-komatsu.jp/wp
SUMMARY:2023.4月-7月スクール制・レゴプログラミング体験教室「Dコース・土曜日曜の午前①/午後②③クラス・小学3年生対象」（事前申込・抽選）
DESCRIPTION:プログラミング体験教室は、スクール制(曜日と時間を固定します)で実施します。  保護者の皆様へ必ずお読みください。対象や使用するツールが一部変更となっています。  教室参加の対象は、年長・小学1年・小学2年・小学3年・小学4年生以上に分かれます。すべてのクラスは、全4回となります。お申し込みの前にもう一度、対象とスケジュールをご確認ください。※お客様のご都合で参加されない場合は、振替教室は実施しませんので、ご了承ください。  　  年長クラスおよび小学1年生のクラスでは、レゴSPIKEベーシック＆iPad　を使用します。簡単な組み立てをして遊び感覚から、楽しくプログラミングにふれてみましょう♪        小学2年生では、レゴEV3&amp;iPad　を使用します。プログラミングについて、しっかり学びましょう。  小学3年生では、レゴSPIKEプライム＆タッチパネル式PCを使用予定です。簡単な組み立てとプログラミングを実施予定です。  ３月７日(火)～３月2１日(火祝)午後11時59分まで募集し、抽選により決定させていただきます。  &nbsp;  抽選の結果は、当選者には３月２６日(日)にHP「お知らせ」にて、“ご予約ID”を表示いたしますので、必ずお控えください。
URL:https://science-hills-komatsu.jp/wp/event/31604/2023-07-16/
CATEGORIES:イベント情報
ATTACH;FMTTYPE=image/jpeg:https://science-hills-komatsu.jp/wp/wp-content/uploads/2023/03/DSCN9994-01.jpg
END:VEVENT
END:VCALENDAR