BEGIN:VCALENDAR
VERSION:2.0
PRODID:-//サイエンスヒルズこまつ - ECPv3.9.1//NONSGML v1.0//EN
CALSCALE:GREGORIAN
METHOD:PUBLISH
X-WR-CALNAME:サイエンスヒルズこまつ
X-ORIGINAL-URL:https://science-hills-komatsu.jp/wp
X-WR-CALDESC:Events for サイエンスヒルズこまつ
X-WR-TIMEZONE:Asia/Tokyo
BEGIN:VEVENT
DTSTART;VALUE=DATE-TIME:20230709T103000
DTEND;VALUE=DATE-TIME:20230709T141000
DTSTAMP:20260421T070412
CREATED:20230305T173844
LAST-MODIFIED:20230322T064150
UID:31573-1688898600-1688911800@https://science-hills-komatsu.jp/wp
SUMMARY:2023.4月-7月スクール制・レゴプログラミング体験教室「Bコース・日曜の午前/午後クラス・小学1年生対象」（事前申込・抽選）
DESCRIPTION:プログラミング体験教室は、スクール制(曜日と時間を固定します)で実施します。  保護者の皆様へ必ずお読みください。対象や使用するツールが一部変更となっています。  教室参加の対象は、年長・小学1年・小学2年・小学3年・小学4年生以上に分かれます。すべてのクラスは、全4回となります。お申し込みの前にもう一度、対象とスケジュールをご確認ください。※お客様のご都合で参加されない場合は、振替教室は実施しませんので、ご了承ください。  　  年長クラスおよび小学1年生のクラスでは、レゴSPIKEベーシック＆iPad　を使用します。簡単な組み立てをして遊び感覚から、楽しくプログラミングにふれてみましょう♪    小学2年生では、レゴEV3&amp;iPad　を使用します。プログラミングについて、しっかり学びましょう。  小学3年生では、レゴSPIKEプライム＆タッチパネル式PCを使用予定です。簡単な組み立てとプログラミングを実施予定です。  ３月７日(火)～３月2１日(火祝)午後11時59分まで募集し、抽選により決定させていただきます。  &nbsp;  抽選の結果は、当選者には３月２６日(日)にHP「お知らせ」にて、“ご予約ID”を表示いたしますので、必ずお控えください。
URL:https://science-hills-komatsu.jp/wp/event/31559/2023-07-09/
CATEGORIES:イベント情報
ATTACH;FMTTYPE=image/jpeg:https://science-hills-komatsu.jp/wp/wp-content/uploads/2023/03/e00f55a170179ba381e537c798c3eb8b-1.jpg
END:VEVENT
BEGIN:VEVENT
DTSTART;VALUE=DATE-TIME:20230709T131000
DTEND;VALUE=DATE-TIME:20230709T144000
DTSTAMP:20260421T070412
CREATED:20230601T131200
LAST-MODIFIED:20230606T151617
UID:32349-1688908200-1688913600@https://science-hills-komatsu.jp/wp
SUMMARY:四ヶ浦弘先生による体験教室「元素の実物付き周期表をつくろう｣(事前申込・先着順)
DESCRIPTION:お家の壁に周期表を貼って、元素を覚えた記憶のある保護者の方が多いのではないでしょうか。  元素の実物20種類を貼り付けた周期表を作り、元素の性質や周期表から分かる規則性などを知ろう！  毎年教室が、パワーアップする四ヶ浦先生の体験教室。先生ご自身が常に探求し、教室を展開して下さっています。そんな先生の教室に参加して、先生の情熱を同じ場所で感じてみませんか。  先生は、公益財団法人「東レ科学振興会」から、中学・高校の理科教育で優れた事例をたたえる「東レ理科教育賞」を受賞されました！（北陸中日新聞/北國新聞/2020年３月12日に掲載されました）  四ヶ浦弘先生は、高校で化学を担当。退職後は金沢の特産品の金、銀、白金箔をサイエンスに使い、科学の楽しさを伝えています。  講師：四ヶ浦弘先生  お申込はこちら　※6月18日午前8時より、赤色の予約ボタンが表示されます。
URL:https://science-hills-komatsu.jp/wp/event/32349/
CATEGORIES:イベント情報
ATTACH;FMTTYPE=image/jpeg:https://science-hills-komatsu.jp/wp/wp-content/uploads/2019/06/f9280e0a15bba4c685c83e6ff52f98d5.jpg
END:VEVENT
END:VCALENDAR