BEGIN:VCALENDAR
VERSION:2.0
PRODID:-//サイエンスヒルズこまつ - ECPv3.9.1//NONSGML v1.0//EN
CALSCALE:GREGORIAN
METHOD:PUBLISH
X-WR-CALNAME:サイエンスヒルズこまつ
X-ORIGINAL-URL:https://science-hills-komatsu.jp/wp
X-WR-CALDESC:Events for サイエンスヒルズこまつ
X-WR-TIMEZONE:Asia/Tokyo
BEGIN:VEVENT
DTSTART;VALUE=DATE-TIME:20230708T100000
DTEND;VALUE=DATE-TIME:20230708T233000
DTSTAMP:20260421T070247
CREATED:20230305T175415
LAST-MODIFIED:20230322T061703
UID:31479-1688810400-1688859000@https://science-hills-komatsu.jp/wp
SUMMARY:2023.4-7月スクール制・レゴプログラミング体験教室「Eコース・土曜クラス・小学４年生以上対象」（事前申込・抽選）
DESCRIPTION:小学4年生以上対象の初級レゴプログラミング教室です。以前のEV3を含めてレゴロボットのプログラミングをしたことがない人は、こちらに参加してください。新しいロボット、マインドストームスパイクプライムとタッチ式パソコンを使用します。スクール制で実施し、最初に選んだ時間帯で4回とも参加していただきます。2回目以降は前回の復習も取り入れるので、欠席した回の補講は行いません。  第1回　4月8日（土）　モーターを動かそう（図形をかく）   第2回　5月13日（土）　センサーを使おう（荷物運び）   第3回　6月10日（土）　場合によって命令を切り替え   第4回　7月8日（土）　線に沿って進む  申込受付は終了しました。抽選結果は3月26日（日）に当館Webページにてお知らせします。9桁の「予約ID」を表示するので、紛失した方はお問合せください。
URL:https://science-hills-komatsu.jp/wp/event/slpz2347spike-e/2023-07-08/
CATEGORIES:イベント情報
ATTACH;FMTTYPE=image/jpeg:https://science-hills-komatsu.jp/wp/wp-content/uploads/2023/03/SpikePrime.jpg
END:VEVENT
END:VCALENDAR