BEGIN:VCALENDAR
VERSION:2.0
PRODID:-//サイエンスヒルズこまつ - ECPv3.9.1//NONSGML v1.0//EN
CALSCALE:GREGORIAN
METHOD:PUBLISH
X-WR-CALNAME:サイエンスヒルズこまつ
X-ORIGINAL-URL:https://science-hills-komatsu.jp/wp
X-WR-CALDESC:Events for サイエンスヒルズこまつ
X-WR-TIMEZONE:Asia/Tokyo
BEGIN:VEVENT
DTSTART;VALUE=DATE-TIME:20230707T133000
DTEND;VALUE=DATE-TIME:20230707T153000
DTSTAMP:20260421T070248
CREATED:20230601T152919
LAST-MODIFIED:20230606T153344
UID:32418-1688736600-1688743800@https://science-hills-komatsu.jp/wp
SUMMARY:大人のための体験教室「分子模型作り講座・DHAの分子｣(事前申込・先着順)
DESCRIPTION:当館職員：科学教育専門員　貝田　明による体験教室です。  大人のための「分子模型作り」のシリーズです。毎月１回の実施を予定しています。連続参加でも、単発参加でもOK！どうぞお気軽にお集まりください。難しく考えず、興味があればご参加ください。  立体構造を知ること、似ているものを見比べることから新たな発見があるかもしれません！  &nbsp;  お申込はこちら ※6/18(日)午前8時より受付開始。赤色の予約ボタンが表示されます。
URL:https://science-hills-komatsu.jp/wp/event/32418/
CATEGORIES:イベント情報
ATTACH;FMTTYPE=image/jpeg:https://science-hills-komatsu.jp/wp/wp-content/uploads/2023/03/0af98294a38303bcddb3ac83e563999d.jpg
END:VEVENT
END:VCALENDAR