BEGIN:VCALENDAR
VERSION:2.0
PRODID:-//サイエンスヒルズこまつ - ECPv3.9.1//NONSGML v1.0//EN
CALSCALE:GREGORIAN
METHOD:PUBLISH
X-WR-CALNAME:サイエンスヒルズこまつ
X-ORIGINAL-URL:https://science-hills-komatsu.jp/wp
X-WR-CALDESC:Events for サイエンスヒルズこまつ
X-WR-TIMEZONE:Asia/Tokyo
BEGIN:VEVENT
DTSTART;VALUE=DATE-TIME:20230703T093000
DTEND;VALUE=DATE-TIME:20230703T180000
DTSTAMP:20260421T072305
CREATED:20230316T172839
LAST-MODIFIED:20230316T172839
UID:31771-1688376600-1688407200@https://science-hills-komatsu.jp/wp
SUMMARY:休館日
DESCRIPTION:
URL:https://science-hills-komatsu.jp/wp/event/31765/2023-07-03/
CATEGORIES:休館日
END:VEVENT
END:VCALENDAR