BEGIN:VCALENDAR
VERSION:2.0
PRODID:-//サイエンスヒルズこまつ - ECPv3.9.1//NONSGML v1.0//EN
CALSCALE:GREGORIAN
METHOD:PUBLISH
X-WR-CALNAME:サイエンスヒルズこまつ
X-ORIGINAL-URL:https://science-hills-komatsu.jp/wp
X-WR-CALDESC:Events for サイエンスヒルズこまつ
X-WR-TIMEZONE:Asia/Tokyo
BEGIN:VEVENT
DTSTART;VALUE=DATE-TIME:20230702T100000
DTEND;VALUE=DATE-TIME:20230702T110000
DTSTAMP:20260421T070411
CREATED:20230525T163224
LAST-MODIFIED:20230701T183543
UID:32275-1688292000-1688295600@https://science-hills-komatsu.jp/wp
SUMMARY:高橋真理子プラネタリウムトーク 「天の川銀河の旅へ 七夕に想いを寄せて」(当日受付可)
DESCRIPTION:七夕・・・人々の想いが星空に向かう日。星を見上げることは、大切な誰かに想いをつなげること。皆さんと一緒に星に願いを届けましょう。  講　師：高橋 真理子（宙先案内人）   プラネタリウムで19年間、斬新な企画や番組制作を行った後、2013年に独立。現在は、本物の星空をなかなかみられない人をつなぐ活動を精力的に行う。  2023年7月2日(日) 10:00～11:00     当日予約：0761-22-8610   （当日受付で直接チケットを購入することもできます）  あなたの願い事が星空に・・・   ご希望の方は予約フォーム備考の欄にご記入ください。   （すべてお願いが投影されるとはかぎりません）  〈記入例〉   願い事の名前はニックネームや未記入でも構いません   
URL:https://science-hills-komatsu.jp/wp/event/32275/
CATEGORIES:イベント情報
ATTACH;FMTTYPE=image/jpeg:https://science-hills-komatsu.jp/wp/wp-content/uploads/2023/05/0f08dd1025087468fc113dfb54d3a35e-1.jpg
END:VEVENT
BEGIN:VEVENT
DTSTART;VALUE=DATE-TIME:20230702T100000
DTEND;VALUE=DATE-TIME:20230702T170000
DTSTAMP:20260421T070411
CREATED:20230305T174926
LAST-MODIFIED:20230322T064217
UID:31603-1688292000-1688317200@https://science-hills-komatsu.jp/wp
SUMMARY:2023.4月-7月スクール制・レゴプログラミング体験教室「Cコース・土曜日曜の午前①/午後②③クラス・小学2年生対象」（事前申込・抽選）
DESCRIPTION:プログラミング体験教室は、スクール制(曜日と時間を固定します)で実施します。  保護者の皆様へ必ずお読みください。対象や使用するツールが一部変更となっています。  教室参加の対象は、年長・小学1年・小学2年・小学3年・小学4年生以上に分かれます。すべてのクラスは、全4回となります。お申し込みの前にもう一度、対象とスケジュールをご確認ください。※お客様のご都合で参加されない場合は、振替教室は実施しませんので、ご了承ください。  　  年長クラスおよび小学1年生のクラスでは、レゴSPIKEベーシック＆iPad　を使用します。簡単な組み立てをして遊び感覚から、楽しくプログラミングにふれてみましょう♪  小学2年生では、レゴEV3&amp;iPad　を使用します。プログラミングについて、しっかり学びましょう。  小学3年生では、レゴSPIKEプライム＆タッチパネル式PCを使用予定です。簡単な組み立てとプログラミングを実施予定です。  ３月７日(火)～３月2１日(火祝)午後11時59分まで募集し、抽選により決定させていただきます。  &nbsp;  抽選の結果は、当選者には３月２６日(日)にHP「お知らせ」にて、“ご予約ID”を表示いたしますので、必ずお控えください。  &nbsp;
URL:https://science-hills-komatsu.jp/wp/event/31575/2023-07-02/
CATEGORIES:イベント情報
ATTACH;FMTTYPE=image/jpeg:https://science-hills-komatsu.jp/wp/wp-content/uploads/2023/03/DSCN9987.jpg
END:VEVENT
BEGIN:VEVENT
DTSTART;VALUE=DATE-TIME:20230702T130000
DTEND;VALUE=DATE-TIME:20230702T170000
DTSTAMP:20260421T070411
CREATED:20230601T142216
LAST-MODIFIED:20230606T152836
UID:32376-1688302800-1688317200@https://science-hills-komatsu.jp/wp
SUMMARY:体験教室「楕円形ギアを使ったおもちゃを作ろう〈森の小人〉」（事前申込・先着順）
DESCRIPTION:      講師：当館職員・科学教育専門員　﨑川誠一による体験教室です。  楕円形ギアの組み合わせで、ハンドルを回すと2体の人形が躍るように動きます。楕円形ギアのセットを2種類作ることで、人形に2種類の動きをさせます。また、持ち帰った後も、ギアを入れ替えると動きを変える工夫ができるかもしれません。一緒に作ってみましょう♪  お申込はこちら　※6/18(日)午前8時ご予約開始。赤色の予約ボタンが表示されます。      &nbsp;
URL:https://science-hills-komatsu.jp/wp/event/32371/2023-07-02/
CATEGORIES:イベント情報
ATTACH;FMTTYPE=image/jpeg:https://science-hills-komatsu.jp/wp/wp-content/uploads/2023/06/fc7e460bcfdfd29f11ce7f2fcea8022b.jpg
END:VEVENT
END:VCALENDAR