BEGIN:VCALENDAR
VERSION:2.0
PRODID:-//サイエンスヒルズこまつ - ECPv3.9.1//NONSGML v1.0//EN
CALSCALE:GREGORIAN
METHOD:PUBLISH
X-WR-CALNAME:サイエンスヒルズこまつ
X-ORIGINAL-URL:https://science-hills-komatsu.jp/wp
X-WR-CALDESC:Events for サイエンスヒルズこまつ
X-WR-TIMEZONE:Asia/Tokyo
BEGIN:VEVENT
DTSTART;VALUE=DATE-TIME:20230624T100000
DTEND;VALUE=DATE-TIME:20230624T233000
DTSTAMP:20260421T083428
CREATED:20230305T175452
LAST-MODIFIED:20230411T124324
UID:31554-1687600800-1687649400@https://science-hills-komatsu.jp/wp
SUMMARY:2023.4-7月スクール制・レゴプログラミング体験教室「Gコース・土曜クラス・小学４年生以上対象」（事前申込・抽選）
DESCRIPTION:小学4年生以上対象の上級レゴプログラミング教室です。レゴロボットで難しそうなことに挑戦したい人は、こちらに参加してください。新しいロボット、マインドストームスパイクプライムとタッチ式パソコンを使用します。スクール制で実施し、最初に選んだ時間帯で4回とも参加していただきます。2回目以降は前回の復習も取り入れるので、欠席した回の補講は行いません。  第1回　4月22日（土）　迷路を抜ける   第2回　5月27日（土）　間隔をキープ   第3回　6月24日（土）　なめらかライントレース   第4回　7月22日（土）　高度な数式制御  現在追加募集中　お申込みはこちら（４月２１日１７時まで）
URL:https://science-hills-komatsu.jp/wp/event/spqn230407spike-g/2023-06-24/
CATEGORIES:イベント情報
ATTACH;FMTTYPE=image/jpeg:https://science-hills-komatsu.jp/wp/wp-content/uploads/2023/03/SpikePrime.jpg
END:VEVENT
BEGIN:VEVENT
DTSTART;VALUE=DATE-TIME:20230624T100000
DTEND;VALUE=DATE-TIME:20230624T170000
DTSTAMP:20260421T083428
CREATED:20230306T041116
LAST-MODIFIED:20230322T064247
UID:31625-1687600800-1687626000@https://science-hills-komatsu.jp/wp
SUMMARY:2023.4月-7月スクール制・レゴプログラミング体験教室「Dコース・土曜日曜の午前①/午後②③クラス・小学3年生対象」（事前申込・抽選）
DESCRIPTION:プログラミング体験教室は、スクール制(曜日と時間を固定します)で実施します。  保護者の皆様へ必ずお読みください。対象や使用するツールが一部変更となっています。  教室参加の対象は、年長・小学1年・小学2年・小学3年・小学4年生以上に分かれます。すべてのクラスは、全4回となります。お申し込みの前にもう一度、対象とスケジュールをご確認ください。※お客様のご都合で参加されない場合は、振替教室は実施しませんので、ご了承ください。  　  年長クラスおよび小学1年生のクラスでは、レゴSPIKEベーシック＆iPad　を使用します。簡単な組み立てをして遊び感覚から、楽しくプログラミングにふれてみましょう♪        小学2年生では、レゴEV3&amp;iPad　を使用します。プログラミングについて、しっかり学びましょう。  小学3年生では、レゴSPIKEプライム＆タッチパネル式PCを使用予定です。簡単な組み立てとプログラミングを実施予定です。  ３月７日(火)～３月2１日(火祝)午後11時59分まで募集し、抽選により決定させていただきます。  &nbsp;  抽選の結果は、当選者には３月２６日(日)にHP「お知らせ」にて、“ご予約ID”を表示いたしますので、必ずお控えください。
URL:https://science-hills-komatsu.jp/wp/event/31604/2023-06-24/
CATEGORIES:イベント情報
ATTACH;FMTTYPE=image/jpeg:https://science-hills-komatsu.jp/wp/wp-content/uploads/2023/03/DSCN9994-01.jpg
END:VEVENT
BEGIN:VEVENT
DTSTART;VALUE=DATE-TIME:20230624T110000
DTEND;VALUE=DATE-TIME:20230624T143000
DTSTAMP:20260421T083428
CREATED:20230416T162516
LAST-MODIFIED:20230416T163119
UID:32135-1687604400-1687617000@https://science-hills-komatsu.jp/wp
SUMMARY:屋外活動体験〈トンボのぬけがら探しと湿生植物を観察しよう〉（事前申込・先着順）
DESCRIPTION:集合場所：木場潟の西園地　湿生植物園(現地集合・現地解散)  もちもの：上着、帽子、タオル　あれば双眼鏡や虫眼鏡、虫取り網と虫かご、図鑑  &lt;内容&gt;  木場潟公園を歩きながら、初夏の生き物を観察します。  ・湿生植物の観察と解説  ・トンボの羽化の季節なので、抜け殻をさがして種類を判別する  ・そのほか、初夏の昆虫・植物・野鳥の観察  お申込みはこちら　※5/14(日)午前8時より受付開始。赤色のご予約ボタンが表示されます。
URL:https://science-hills-komatsu.jp/wp/event/32135/
CATEGORIES:イベント情報
ATTACH;FMTTYPE=image/png:https://science-hills-komatsu.jp/wp/wp-content/uploads/2023/04/dragonfly_02_brown.png
END:VEVENT
END:VCALENDAR