BEGIN:VCALENDAR
VERSION:2.0
PRODID:-//サイエンスヒルズこまつ - ECPv3.9.1//NONSGML v1.0//EN
CALSCALE:GREGORIAN
METHOD:PUBLISH
X-WR-CALNAME:サイエンスヒルズこまつ
X-ORIGINAL-URL:https://science-hills-komatsu.jp/wp
X-WR-CALDESC:Events for サイエンスヒルズこまつ
X-WR-TIMEZONE:Asia/Tokyo
BEGIN:VEVENT
DTSTART;VALUE=DATE-TIME:20220219T103000
DTEND;VALUE=DATE-TIME:20220219T153000
DTSTAMP:20260421T021600
CREATED:20211230T142141
LAST-MODIFIED:20220111T120028
UID:28163-1645266600-1645284600@https://science-hills-komatsu.jp/wp
SUMMARY:体験教室「お部屋に飾る月のステンドチャームを作ろう」（事前申込・先着順）
DESCRIPTION:  イベント情報チラシには、お部屋に飾る星のステンドチャームを作ろうと記載していますが、「月のステンドチャーム」を作ります。  高原などにある教会や住宅、ランプなどのステンドグラスを目にしたことはありますか。  ステンドグラスにも、沢山の手仕事が隠されています。  板状のガラスから、必要な形の切り出し→研磨→銅テープをガラスの断面に巻き付け　まで準備されたものを使用して、  　今回は、ハンダでガラスとガラスをくっつける→ハンダの色を変える→ツヤ出し　を自分でやってみましょう！  お家の窓などに飾ってみませんか。   お申込みはこちら　※1/10\,午前8時より受付開始。予約ボタンが表示されます。  光がガラスに当たると、ガラスの色が壁に映りキレイですね♪    &nbsp;  &nbsp;
URL:https://science-hills-komatsu.jp/wp/event/28163/
CATEGORIES:イベント情報
ATTACH;FMTTYPE=image/jpeg:https://science-hills-komatsu.jp/wp/wp-content/uploads/2021/12/IMG_2462.jpg
END:VEVENT
END:VCALENDAR