BEGIN:VCALENDAR
VERSION:2.0
PRODID:-//サイエンスヒルズこまつ - ECPv3.9.1//NONSGML v1.0//EN
CALSCALE:GREGORIAN
METHOD:PUBLISH
X-WR-CALNAME:サイエンスヒルズこまつ
X-ORIGINAL-URL:https://science-hills-komatsu.jp/wp
X-WR-CALDESC:Events for サイエンスヒルズこまつ
X-WR-TIMEZONE:Asia/Tokyo
BEGIN:VEVENT
DTSTART;VALUE=DATE-TIME:20220205T100000
DTEND;VALUE=DATE-TIME:20220205T113000
DTSTAMP:20260421T021020
CREATED:20220105T085653
LAST-MODIFIED:20220128T095509
UID:28177-1644055200-1644060600@https://science-hills-komatsu.jp/wp
SUMMARY:プログラミング体験教室「マイクロビットを使ってプログラミングをしてみよう」（事前申込、先着順）
DESCRIPTION:「マイクロビット」とは、イギリスで開発された教育用ワンボードコンピュータです。その姿はおよそ5センチ角の板で、表と裏に電子部品が取り付けられています。普通のノートパソコンみたいにモニターやキーボード・マウスがあるわけではありませんが、プログラミングして動かすことができる立派なコンピュータです。スクラッチに似たわかりやすいプログラミング環境も用意されていて、初心者でも簡単です。とはいえ初めは少し苦労があるので、少しお手伝いしながらマイクロビットのプログラミングをご案内します。    [caption id="attachment_28227" align="alignleft" width="300"] マイクロビッ[/caption]    お申込みはこちらから　2月5日、2月23日、2月26日   　　　　　　　　　　　3月20日、3月26日（2月10日8時より受付開始）
URL:https://science-hills-komatsu.jp/wp/event/hxprmicrobit/2022-02-05/
CATEGORIES:イベント情報
END:VEVENT
BEGIN:VEVENT
DTSTART;VALUE=DATE-TIME:20220205T103000
DTEND;VALUE=DATE-TIME:20220205T150000
DTSTAMP:20260421T021020
CREATED:20211230T135443
LAST-MODIFIED:20220119T124635
UID:28153-1644057000-1644073200@https://science-hills-komatsu.jp/wp
SUMMARY:体験教室｢電球型オリジナルスノードームをつくろう｣　(事前申込・先着順)
DESCRIPTION:オリジナルスノードームをつくりませんか。  容器の中に入れるキャラクター＆丸いボールは自分でつくります。光る電球型の容器を使って、冬の北陸らしいスノードームを一緒に作りましょう！  お申込みはこちら※1/10午前8時ご予約開始。赤色の予約ボタンが表示されます。  &nbsp;  
URL:https://science-hills-komatsu.jp/wp/event/28153/
CATEGORIES:イベント情報
ATTACH;FMTTYPE=image/jpeg:https://science-hills-komatsu.jp/wp/wp-content/uploads/2021/12/IMG_2489.jpg
END:VEVENT
END:VCALENDAR