BEGIN:VCALENDAR
VERSION:2.0
PRODID:-//サイエンスヒルズこまつ - ECPv3.9.1//NONSGML v1.0//EN
CALSCALE:GREGORIAN
METHOD:PUBLISH
X-WR-CALNAME:サイエンスヒルズこまつ
X-ORIGINAL-URL:https://science-hills-komatsu.jp/wp
X-WR-CALDESC:Events for サイエンスヒルズこまつ
X-WR-TIMEZONE:Asia/Tokyo
BEGIN:VEVENT
DTSTART;VALUE=DATE-TIME:20220130T100000
DTEND;VALUE=DATE-TIME:20220130T150000
DTSTAMP:20260421T033727
CREATED:20211220T082107
LAST-MODIFIED:20211220T084503
UID:27958-1643536800-1643554800@https://science-hills-komatsu.jp/wp
SUMMARY:竹下あづさ先生による体験教室｢海ごみアートをつくろう＆作品展示｣（事前申込・先着順）
DESCRIPTION:　石川県は、日本列島のほぼ中央の日本海に位置します。能登半島の先端珠洲市から、南は加賀市に至るまで海岸線約５８３kmを有しています。近年盛んに、海ごみ問題が取り上げられ、海の環境を守る取り組みとして、2020年７月１日に、全国でレジ袋有料化が義務付けされました。この企画は、「いしかわの海から世界の海へ」をテーマに、５つの教室を開催します。私たちも海を守る術は何かあるのか、この機会に一緒に考えてみませんか。  ＊＊＊＊＊    海ごみワークショップ講師：竹下あづさ先生  　きれいな珠洲の海にごみが多いことにショックを受け、「Suzu Beach Clean」として海岸清掃をはじめる。毎月の定期清掃の他、海ごみを知ってもらうためにワークショップなども行う。  ＊＊＊＊＊  この教室では、海岸に漂着したゴミを使って、アート作品を作ります。制作後は、当館エントランスにて、作品展示を予定しています。  1/29お申し込みはこちら  1/30お申し込みはこちら　※12月２６日(日)午前８時受付開始。赤色の予約ボタンが表示されます。  
URL:https://science-hills-komatsu.jp/wp/event/27954/2022-01-30/
CATEGORIES:イベント情報
ATTACH;FMTTYPE=image/jpeg:https://science-hills-komatsu.jp/wp/wp-content/uploads/2021/12/af81cc6716c91b22e7d9a29a400ce239.jpg
END:VEVENT
BEGIN:VEVENT
DTSTART;VALUE=DATE-TIME:20220130T101000
DTEND;VALUE=DATE-TIME:20220130T155500
DTSTAMP:20260421T033727
CREATED:20211220T103718
LAST-MODIFIED:20211220T103718
UID:27992-1643537400-1643558100@https://science-hills-komatsu.jp/wp
SUMMARY:体験教室「バレンタインチョコを作ろう」（事前申込・先着順）
DESCRIPTION:理科専門員が実施する体験教室です！  食べるシリーズ！今回のテーマは“チョコレート”  ２月14日は、バレンタインデー♪好きな人だけでなく、日頃の感謝の気持ちを込めて自分で作ってみませんか。  作る・知る・食べる楽しみを満喫しましょう！  &nbsp;  1/29(土）お申し込みはこちら  1/30(日）お申し込みはこちら　※12月26日(日)午前８時ご予約開始。赤色の予約ボタンが表示されます。
URL:https://science-hills-komatsu.jp/wp/event/27991/2022-01-30/
ATTACH;FMTTYPE=image/jpeg:https://science-hills-komatsu.jp/wp/wp-content/uploads/2018/12/publicdomainq-0008413tbt.jpg
END:VEVENT
END:VCALENDAR