BEGIN:VCALENDAR
VERSION:2.0
PRODID:-//サイエンスヒルズこまつ - ECPv3.9.1//NONSGML v1.0//EN
CALSCALE:GREGORIAN
METHOD:PUBLISH
X-WR-CALNAME:サイエンスヒルズこまつ
X-ORIGINAL-URL:https://science-hills-komatsu.jp/wp
X-WR-CALDESC:Events for サイエンスヒルズこまつ
X-WR-TIMEZONE:Asia/Tokyo
BEGIN:VEVENT
DTSTART;VALUE=DATE-TIME:20220123T103000
DTEND;VALUE=DATE-TIME:20220123T141000
DTSTAMP:20260421T033622
CREATED:20211220T103158
LAST-MODIFIED:20211220T103158
UID:27989-1642933800-1642947000@https://science-hills-komatsu.jp/wp
SUMMARY:体験教室「新！泥だんごをつくろう！」（当日受付・先着順）
DESCRIPTION:理科専門員による体験教室です。  大人気！どろだんご作りを開催します。  丸くしたり、色をつけたり、休ませたりして、最後はピカピカ🎶  一緒に作りましょう！
URL:https://science-hills-komatsu.jp/wp/event/27989/
CATEGORIES:イベント情報
ATTACH;FMTTYPE=image/jpeg:https://science-hills-komatsu.jp/wp/wp-content/uploads/2019/02/IMG_4335-e1549245227107.jpg
END:VEVENT
BEGIN:VEVENT
DTSTART;VALUE=DATE-TIME:20220123T131500
DTEND;VALUE=DATE-TIME:20220123T144500
DTSTAMP:20260421T033622
CREATED:20211220T081416
LAST-MODIFIED:20220122T081142
UID:27951-1642943700-1642949100@https://science-hills-komatsu.jp/wp
SUMMARY:池田幸應先生による体験教室｢いしかわの海を知ろう〜漂着したゴミの分別〜｣（事前申込・先着順）
DESCRIPTION:　石川県は、日本列島のほぼ中央の日本海に位置します。能登半島の先端珠洲市から、南は加賀市に至るまで海岸線約５８３kmを有しています。近年盛んに、海ごみ問題が取り上げられ、海の環境を守る取り組みとして、2020年７月１日に、全国でレジ袋有料化が義務付けされました。この企画は、「いしかわの海から世界の海へ」をテーマに、５つの教室を開催します。私たちも海を守る術は何かあるのか、この機会に一緒に考えてみませんか。  ＊＊＊＊＊    講師：金沢星稜大学　人間科学部　池田幸應先生  連携協力：（株）環境公害研究センター、クリーンビーチいしかわ実行委員会  　池田先生は、石川県の美しい海を守るため、クリーン・ビーチいしかわの活動を続けておられ、アドバイザーも務められています  ＊＊＊＊＊  この教室では、石川県の海岸に漂着したゴミについてのお話を中心に、漂着したゴミの分別を行います。（今回は大学生による教室サポートは、感染症拡大防止のため、見送りました）最後に、透明瓶に海岸の砂・漂着ごみを入れてお持ち帰りいただきます。  お申し込みはこちら　※12月２６日(日)午前８時受付開始。赤色の予約ボタンが表示されます。
URL:https://science-hills-komatsu.jp/wp/event/27951/
CATEGORIES:イベント情報
ATTACH;FMTTYPE=image/jpeg:https://science-hills-komatsu.jp/wp/wp-content/uploads/2021/12/IMG_2088.jpg
END:VEVENT
END:VCALENDAR