BEGIN:VCALENDAR
VERSION:2.0
PRODID:-//サイエンスヒルズこまつ - ECPv3.9.1//NONSGML v1.0//EN
CALSCALE:GREGORIAN
METHOD:PUBLISH
X-WR-CALNAME:サイエンスヒルズこまつ
X-ORIGINAL-URL:https://science-hills-komatsu.jp/wp
X-WR-CALDESC:Events for サイエンスヒルズこまつ
X-WR-TIMEZONE:Asia/Tokyo
BEGIN:VEVENT
DTSTART;VALUE=DATE-TIME:20220122T100000
DTEND;VALUE=DATE-TIME:20220122T144000
DTSTAMP:20260421T033730
CREATED:20211220T102822
LAST-MODIFIED:20211220T102822
UID:27988-1642845600-1642862400@https://science-hills-komatsu.jp/wp
SUMMARY:体験教室「トコトコザウルスをつくろう」(事前申込・先着順）
DESCRIPTION:坂道をトコトコ歩く恐竜のおもちゃをつくろう。  自分自身で板に穴をあける、まっすぐ軸をとおす、滑り止めをつけるなど細かな工程を体験します。このおもちゃは、単純そうに見えて、実は奥深いバランスで動いています。坂道をまっすぐ歩くようにするにはどうしたら良いのか。ものづくりを楽しみながらベストの動きを探してみよう。  お申し込みはこちら　※12月26日(日)午前８時ご予約開始。赤色の予約ボタンが表示されます。  &nbsp;    
URL:https://science-hills-komatsu.jp/wp/event/27988/
CATEGORIES:イベント情報
ATTACH;FMTTYPE=image/jpeg:https://science-hills-komatsu.jp/wp/wp-content/uploads/2019/07/DSCN0002.jpg
END:VEVENT
END:VCALENDAR