BEGIN:VCALENDAR
VERSION:2.0
PRODID:-//サイエンスヒルズこまつ - ECPv3.9.1//NONSGML v1.0//EN
CALSCALE:GREGORIAN
METHOD:PUBLISH
X-WR-CALNAME:サイエンスヒルズこまつ
X-ORIGINAL-URL:https://science-hills-komatsu.jp/wp
X-WR-CALDESC:Events for サイエンスヒルズこまつ
X-WR-TIMEZONE:Asia/Tokyo
BEGIN:VEVENT
DTSTART;VALUE=DATE-TIME:20220115T100000
DTEND;VALUE=DATE-TIME:20220115T153000
DTSTAMP:20260421T033619
CREATED:20211220T100852
LAST-MODIFIED:20211220T101454
UID:27981-1642240800-1642260600@https://science-hills-komatsu.jp/wp
SUMMARY:組み立て＋プログラミング体験教室「フォークリフトでパレットを運ぼう」小学2・3年生（事前申込・先着順）
DESCRIPTION:低学年のクラスを担当しています。  保護者の皆様へ必ずお読みください。  〝プログラミング〟が小学校の授業にも、取り入れられる様になりました。順序立てて考えるプログラミング、ロボットを使って実際に動かします。目の前でロボットが動くので、とても実感が湧きます。苦手意識が少ない低学年から、プログラミングをはじめてみませんか。保護者の皆さんと一緒に、お子様に寄り添いたい。そんな思いで教室を運営しています。  &nbsp;  1/15 小学2年生とその保護者対象、1/16 ひとりで参加できる小学3年生対象　  お申し込みはこちら　※12/2６(日)午前8時より受付開始。予約ボタンが表示されます。   
URL:https://science-hills-komatsu.jp/wp/event/27981/2022-01-15/
CATEGORIES:イベント情報
ATTACH;FMTTYPE=image/jpeg:https://science-hills-komatsu.jp/wp/wp-content/uploads/2021/12/DSCN0087.jpg
END:VEVENT
BEGIN:VEVENT
DTSTART;VALUE=DATE-TIME:20220115T103000
DTEND;VALUE=DATE-TIME:20220115T141000
DTSTAMP:20260421T033619
CREATED:20211220T095248
LAST-MODIFIED:20211230T135758
UID:27979-1642242600-1642255800@https://science-hills-komatsu.jp/wp
SUMMARY:体験教室「和紙でランプシェードをつくろう」（事前申込・先着順）
DESCRIPTION:理科専門員による体験教室です！  和紙・風船を使って、ランプシェードを作ります。風船に和紙を貼る作業までヒルズで体験します。お持ち帰りいただいて、１日経過したら風船を割ってみよう！  お申し込みはこちら　※12月26日(日)午前８時ご予約開始。赤色の予約ボタンが表示されます。
URL:https://science-hills-komatsu.jp/wp/event/27979/
CATEGORIES:イベント情報
ATTACH;FMTTYPE=image/jpeg:https://science-hills-komatsu.jp/wp/wp-content/uploads/2021/12/IMG_0223.jpg
END:VEVENT
END:VCALENDAR