BEGIN:VCALENDAR
VERSION:2.0
PRODID:-//サイエンスヒルズこまつ - ECPv3.9.1//NONSGML v1.0//EN
CALSCALE:GREGORIAN
METHOD:PUBLISH
X-WR-CALNAME:サイエンスヒルズこまつ
X-ORIGINAL-URL:https://science-hills-komatsu.jp/wp
X-WR-CALDESC:Events for サイエンスヒルズこまつ
X-WR-TIMEZONE:Asia/Tokyo
BEGIN:VEVENT
DTSTART;VALUE=DATE-TIME:20220108T100000
DTEND;VALUE=DATE-TIME:20220108T141000
DTSTAMP:20260421T033604
CREATED:20211220T092110
LAST-MODIFIED:20211220T092256
UID:27972-1641636000-1641651000@https://science-hills-komatsu.jp/wp
SUMMARY:体験教室「おうちの中でたこあげ大会」（事前申込・先着順）
DESCRIPTION:専門員による体験教室です！  今回のテーマは『たこあげ』です。  北陸の冬は、「外は寒すぎる！だけど身体を動かして遊びたい！」と思いませんか。  江戸時代前までは貴族や武士の遊びだったのが、江戸時代以降、庶民に広まり大人気になったと言われています。明治時代以降は、電線が増えたことで遊べる場所が限られ、徐々に衰退して行きました。  そこで‥お家でも揚げられるミニ凧で、お正月の遊びを復活させましょう！  1/4\,5お申し込みはこちら   1/8お申し込みはこちら  ※12/26(日)午前8時より受付開始。赤色の予約ボタンが表示されます。
URL:https://science-hills-komatsu.jp/wp/event/27967/2022-01-08/
CATEGORIES:イベント情報
ATTACH;FMTTYPE=image/png:https://science-hills-komatsu.jp/wp/wp-content/uploads/2021/12/illust-tora-12.png
END:VEVENT
BEGIN:VEVENT
DTSTART;VALUE=DATE-TIME:20220108T100000
DTEND;VALUE=DATE-TIME:20220108T144000
DTSTAMP:20260421T033604
CREATED:20211220T093517
LAST-MODIFIED:20211226T163734
UID:27975-1641636000-1641652800@https://science-hills-komatsu.jp/wp
SUMMARY:体験教室「クリスタルトコトコザウルスをつくろう」(事前申込・先着順）
DESCRIPTION:思わずコレクションしたくなる、坂道をトコトコ歩く恐竜のおもちゃをつくりませんか。  これまでのベニヤ板シリーズからアクリル板シリーズが登場します！涼しげな恐竜たちを作りませんか。  自分自身でアクリル板に穴をあける、まっすぐ軸をとおす、滑り止めをつけるなど細かな工程を体験します。このおもちゃは、単純そうに見えて、実は奥深いバランスで動いています。坂道をまっすぐ歩くようにするにはどうしたら良いのか。ものづくりを楽しみながらベストの動きを探してみよう。  お申し込みはこちら　※12月２６日(日)午前８時ご予約開始。赤色の予約ボタンが表示されます。  &nbsp;    
URL:https://science-hills-komatsu.jp/wp/event/27975/
CATEGORIES:イベント情報
ATTACH;FMTTYPE=image/jpeg:https://science-hills-komatsu.jp/wp/wp-content/uploads/2020/06/DSCN0008.jpg
END:VEVENT
BEGIN:VEVENT
DTSTART;VALUE=DATE-TIME:20220108T100000
DTEND;VALUE=DATE-TIME:20220108T120000
DTSTAMP:20260421T033604
CREATED:20211101T103838
LAST-MODIFIED:20211101T103838
UID:27757-1641636000-1641643200@https://science-hills-komatsu.jp/wp
SUMMARY:ヒルズカップ「進め！救急搬送支援ロボ」競技前練習（事前申込・先着順）
DESCRIPTION:1月9日(日)に開催のヒルズカップ「進め！救急搬送支援ロボ」に参加する皆さんのための競技前練習を開催します。   （1月9日のヒルズカップについてはこちらから）  練習は一人8回までとさせていただきます。   12月18日(土)、19日(日)、26日(日)、28日(火)　1月4日(火)、5日(水)、6日(木)、7日(金)   　10：00～12：00、13：30～15：30　お申し込みはこちら   1月8日(土)　10：00～12：00　お申し込みはこちら  課題内容   指令を読み取って、2種類ある病院のどちらかにワクチンを届け、2人の患者のどちらかに酸素吸入器剤を届ける。   　スタート → 指令読み取り → ワクチン積み込み → 病院に配達 → 酸素吸入器剤積み込み → 患者宅に配達  コース     ワクチン     酸素吸入機材   
URL:https://science-hills-komatsu.jp/wp/event/wbjahlscpprac2022/2022-01-08/
CATEGORIES:イベント情報
END:VEVENT
BEGIN:VEVENT
DTSTART;VALUE=DATE-TIME:20220108T153000
DTEND;VALUE=DATE-TIME:20220108T164000
DTSTAMP:20260421T033604
CREATED:20211209T115944
LAST-MODIFIED:20211225T181208
UID:24222-1641655800-1641660000@https://science-hills-komatsu.jp/wp
SUMMARY:【ヒルズ×金沢大学】太陽系の作り方
DESCRIPTION:宇宙への夢を現実へと紡ぐ   「ヒルズ×金沢大学 宇宙航空人材育成プログラム」   これまで   天文宇宙分野のエキスパートの方々による定期講演を開催してきました。   ↓↓↓   ★東京大学教授 今村剛氏    　「金星探査機あかつき 新たな惑星科学を切り拓く」    ★映像クリエーター 上坂浩光氏    　「上坂浩光 HAYABUSAにかける想い」    ★JAXAはやぶさ２プロジェクトマネージャー 津田雄一氏    　「小惑星探査機はやぶさ２ 星のかけらとともに地球へ」   ★JAXA宇宙飛行士 大西卓哉氏   　「いつか、きっと、宇宙へ」   ★JAXA主任研究開発員 廣瀬史子氏   　「惑星探査の旅 あかつきを金星に連れてって」   ★カブリ数物連携宇宙研究機構 主任研究者 高田昌広氏   　「宇宙の謎、ダークマターって何？」   ★名古屋大学教授 渡邊 誠一郎氏   　「小惑星リュウグウは何を語る？」  そして今回は   国立天文台 小久保英一郎 教授にお越しいただき、太陽系について解説いただきます。  地球をはじめとする太陽系の惑星たちはどのようにして生まれたのでしょうか。   最新の観測結果やコンピューターシミュレーションによってわかってきた太陽系誕生の物語をたどります。  日時：2022年1月8日(土) 15:30～16:40     申し込みはこちら（12月26日より受付開始）  &nbsp;
URL:https://science-hills-komatsu.jp/wp/event/24222/
CATEGORIES:イベント情報
ATTACH;FMTTYPE=image/jpeg:https://science-hills-komatsu.jp/wp/wp-content/uploads/2020/10/2-e1603854384399.jpg
END:VEVENT
END:VCALENDAR