BEGIN:VCALENDAR
VERSION:2.0
PRODID:-//サイエンスヒルズこまつ - ECPv3.9.1//NONSGML v1.0//EN
CALSCALE:GREGORIAN
METHOD:PUBLISH
X-WR-CALNAME:サイエンスヒルズこまつ
X-ORIGINAL-URL:https://science-hills-komatsu.jp/wp
X-WR-CALDESC:Events for サイエンスヒルズこまつ
X-WR-TIMEZONE:Asia/Tokyo
BEGIN:VEVENT
DTSTART;VALUE=DATE-TIME:20220106T100000
DTEND;VALUE=DATE-TIME:20220106T141000
DTSTAMP:20260421T045842
CREATED:20211220T092944
LAST-MODIFIED:20211220T092944
UID:27974-1641463200-1641478200@https://science-hills-komatsu.jp/wp
SUMMARY:体験教室｢紙ぜんまいコマを作って遊ぼう｣(事前申込・先着順)
DESCRIPTION:紙ゼンマイでコマを作りませんか。紙の力でこんなに動くの！？　楽しく体験してみましょう！  お申し込みはこちら　※12月26日(日)午前８時ご予約開始。赤色の予約ボタンが表示されます。
URL:https://science-hills-komatsu.jp/wp/event/27974/
CATEGORIES:イベント情報
ATTACH;FMTTYPE=image/jpeg:https://science-hills-komatsu.jp/wp/wp-content/uploads/2021/08/IMG_1793.jpg
END:VEVENT
BEGIN:VEVENT
DTSTART;VALUE=DATE-TIME:20220106T100000
DTEND;VALUE=DATE-TIME:20220106T120000
DTSTAMP:20260421T045842
CREATED:20211101T103837
LAST-MODIFIED:20211101T103837
UID:27755-1641463200-1641470400@https://science-hills-komatsu.jp/wp
SUMMARY:ヒルズカップ「進め！救急搬送支援ロボ」競技前練習（事前申込・先着順）
DESCRIPTION:1月9日(日)に開催のヒルズカップ「進め！救急搬送支援ロボ」に参加する皆さんのための競技前練習を開催します。   （1月9日のヒルズカップについてはこちらから）  練習は一人8回までとさせていただきます。   12月18日(土)、19日(日)、26日(日)、28日(火)　1月4日(火)、5日(水)、6日(木)、7日(金)   　10：00～12：00、13：30～15：30　お申し込みはこちら   1月8日(土)　10：00～12：00　お申し込みはこちら  課題内容   指令を読み取って、2種類ある病院のどちらかにワクチンを届け、2人の患者のどちらかに酸素吸入器剤を届ける。   　スタート → 指令読み取り → ワクチン積み込み → 病院に配達 → 酸素吸入器剤積み込み → 患者宅に配達  コース     ワクチン     酸素吸入機材   
URL:https://science-hills-komatsu.jp/wp/event/wbjahlscpprac2022/2022-01-06/
CATEGORIES:イベント情報
END:VEVENT
BEGIN:VEVENT
DTSTART;VALUE=DATE-TIME:20220106T103000
DTEND;VALUE=DATE-TIME:20220106T150000
DTSTAMP:20260421T045842
CREATED:20211220T091313
LAST-MODIFIED:20211220T091313
UID:27966-1641465000-1641481200@https://science-hills-komatsu.jp/wp
SUMMARY:体験教室「 2022年寅・干支キャンドルを作ろう」（事前申込・先着順）
DESCRIPTION:今年もやって来ました！干支キャンドル作りです♪2022年は「寅」。  パラフィンを溶かして冷やしながら、大人も子どもも...楽しく作りませんか。ご家族皆さんで参加されるケースも多いですよ♪玄関やお部屋に飾りませんか。ぜひこの機会にご参加下さいね。  ものづくりが大好きなみなさん！ロウが溶けた状態から、ゆっくり冷まし固まって行く工程もしっかり体感しましょう。会話も楽しみながら一緒にキャンドルをつくりましょう！！    〝丑〟から〝寅〟にバトンタッチ！  お申込はこちら　1２/２６(日)午前８時ご予約開始。赤色の予約ボタンが表示されます。  &nbsp;  これまでの体験の様子   キャンドルは製作工程の中で、温度が大切。ものづくりにみんなが真剣に取り組んでいる表情です♪     
URL:https://science-hills-komatsu.jp/wp/event/27964/2022-01-06/
ATTACH;FMTTYPE=image/jpeg:https://science-hills-komatsu.jp/wp/wp-content/uploads/2021/10/tempImageoUAN09.jpg
END:VEVENT
END:VCALENDAR