BEGIN:VCALENDAR
VERSION:2.0
PRODID:-//サイエンスヒルズこまつ - ECPv3.9.1//NONSGML v1.0//EN
CALSCALE:GREGORIAN
METHOD:PUBLISH
X-WR-CALNAME:サイエンスヒルズこまつ
X-ORIGINAL-URL:https://science-hills-komatsu.jp/wp
X-WR-CALDESC:Events for サイエンスヒルズこまつ
X-WR-TIMEZONE:Asia/Tokyo
BEGIN:VEVENT
DTSTART;VALUE=DATE-TIME:20211226T100000
DTEND;VALUE=DATE-TIME:20211226T120000
DTSTAMP:20260421T051710
CREATED:20211101T103837
LAST-MODIFIED:20211101T103837
UID:27744-1640512800-1640520000@https://science-hills-komatsu.jp/wp
SUMMARY:ヒルズカップ「進め！救急搬送支援ロボ」競技前練習（事前申込・先着順）
DESCRIPTION:1月9日(日)に開催のヒルズカップ「進め！救急搬送支援ロボ」に参加する皆さんのための競技前練習を開催します。   （1月9日のヒルズカップについてはこちらから）  練習は一人8回までとさせていただきます。   12月18日(土)、19日(日)、26日(日)、28日(火)　1月4日(火)、5日(水)、6日(木)、7日(金)   　10：00～12：00、13：30～15：30　お申し込みはこちら   1月8日(土)　10：00～12：00　お申し込みはこちら  課題内容   指令を読み取って、2種類ある病院のどちらかにワクチンを届け、2人の患者のどちらかに酸素吸入器剤を届ける。   　スタート → 指令読み取り → ワクチン積み込み → 病院に配達 → 酸素吸入器剤積み込み → 患者宅に配達  コース     ワクチン     酸素吸入機材   
URL:https://science-hills-komatsu.jp/wp/event/wbjahlscpprac2022/2021-12-26/
CATEGORIES:イベント情報
END:VEVENT
BEGIN:VEVENT
DTSTART;VALUE=DATE-TIME:20211226T110000
DTEND;VALUE=DATE-TIME:20211226T143000
DTSTAMP:20260421T051710
CREATED:20211016T192409
LAST-MODIFIED:20211016T192409
UID:27629-1640516400-1640529000@https://science-hills-komatsu.jp/wp
SUMMARY:平井博政先生による体験教室 「光の万華鏡を作って遊ぼう｣(事前申込・先着順)
DESCRIPTION:　平井先生が身のまわりの「科学」について、楽しく＆わかりやすく教えてくれます。きっと理科好きになるはず！先生の饒舌なお話とあわせて、親子で一緒に楽しんでみませんか。  &nbsp;     講師：平井博政先生  お申込はこちら ※11/10午前８時より、予約ボタンが表示されます。    &nbsp;  &nbsp;
URL:https://science-hills-komatsu.jp/wp/event/27629/
CATEGORIES:イベント情報
ATTACH;FMTTYPE=image/jpeg:https://science-hills-komatsu.jp/wp/wp-content/uploads/2021/10/82ecc0e28e60f8d15fa2f7b5b3699bf3.jpg
END:VEVENT
END:VCALENDAR