BEGIN:VCALENDAR
VERSION:2.0
PRODID:-//サイエンスヒルズこまつ - ECPv3.9.1//NONSGML v1.0//EN
CALSCALE:GREGORIAN
METHOD:PUBLISH
X-WR-CALNAME:サイエンスヒルズこまつ
X-ORIGINAL-URL:https://science-hills-komatsu.jp/wp
X-WR-CALDESC:Events for サイエンスヒルズこまつ
X-WR-TIMEZONE:Asia/Tokyo
BEGIN:VEVENT
DTSTART;VALUE=DATE-TIME:20211225T103000
DTEND;VALUE=DATE-TIME:20211225T163000
DTSTAMP:20260421T050424
CREATED:20211016T200752
LAST-MODIFIED:20211222T164947
UID:27664-1640428200-1640449800@https://science-hills-komatsu.jp/wp
SUMMARY:体験教室｢スノーマンを作ろう｣（当日受付・先着順）
DESCRIPTION:  季節を意識した、可愛い雪だるまをつくりませんか。クリスマスツリーに飾るのも良いかもしれませんね。  発泡スチロールとフェルトを使った工作です。  小さなお子さまも自分で作ってみよう♪
URL:https://science-hills-komatsu.jp/wp/event/27664/
CATEGORIES:イベント情報
ATTACH;FMTTYPE=image/jpeg:https://science-hills-komatsu.jp/wp/wp-content/uploads/2016/11/aa521fca0807498f8e5542c91006c33b.jpg
END:VEVENT
BEGIN:VEVENT
DTSTART;VALUE=DATE-TIME:20211225T160000
DTEND;VALUE=DATE-TIME:20211225T170000
DTSTAMP:20260421T050424
CREATED:20211019T132527
LAST-MODIFIED:20211223T150056
UID:27790-1640448000-1640451600@https://science-hills-komatsu.jp/wp
SUMMARY:星降るクリスマス2021
DESCRIPTION:聖なる日を彩る、   素敵なクリスマスソングをあなたに♪     小松市立高等学校吹奏楽部･芸術コース   のみなさんによる演奏と歌声を映像でお届けします☆彡  心温まるクリスマスソングを   空いっぱいに広がる美しい星空の世界とともに    ぜひ、お楽しみください♪  日時：2021年12月24日(金)、25日(土)   　　　両日とも16:00～   ※申込はこちら　  当日の予約はお電話にてお申込みいただけます。  TEL:0761228610
URL:https://science-hills-komatsu.jp/wp/event/14090/2021-12-25/
CATEGORIES:イベント情報
ATTACH;FMTTYPE=image/png:https://science-hills-komatsu.jp/wp/wp-content/uploads/2017/11/f0418e07c53f712246de17d45ad7c8f8.png
END:VEVENT
END:VCALENDAR