BEGIN:VCALENDAR
VERSION:2.0
PRODID:-//サイエンスヒルズこまつ - ECPv3.9.1//NONSGML v1.0//EN
CALSCALE:GREGORIAN
METHOD:PUBLISH
X-WR-CALNAME:サイエンスヒルズこまつ
X-ORIGINAL-URL:https://science-hills-komatsu.jp/wp
X-WR-CALDESC:Events for サイエンスヒルズこまつ
X-WR-TIMEZONE:Asia/Tokyo
BEGIN:VEVENT
DTSTART;VALUE=DATE-TIME:20211219T100000
DTEND;VALUE=DATE-TIME:20211219T144000
DTSTAMP:20260421T050424
CREATED:20211016T202902
LAST-MODIFIED:20211016T202902
UID:27667-1639908000-1639924800@https://science-hills-komatsu.jp/wp
SUMMARY:体験教室「レゴプログラミング教室　動かしてみよう」（事前申込・先着順）
DESCRIPTION:     小学校から〝プログラミング教育〟がスタートし、保護者の皆様も、とても関心が高いのではないでしょうか。当館では、プログラミング的思考を身につけるために、目の前にあるロボットを動かすためのプログラミング体験教室を運営しています。  &nbsp;  今回はまったくはじめてを受講したことのある小学1・２年生が対象です。  ｢どんなものなのかな｣｢お子様がまたやりたがっている｣等など、お子様と一緒に、同じ時間を共有してみてください。  お申込はこちら　※11/10午前8時になると、赤色のご予約ボタンが表示されます。  &nbsp;
URL:https://science-hills-komatsu.jp/wp/event/27666/2021-12-19/
ATTACH;FMTTYPE=image/jpeg:https://science-hills-komatsu.jp/wp/wp-content/uploads/2019/11/DSCN0186.jpg
END:VEVENT
BEGIN:VEVENT
DTSTART;VALUE=DATE-TIME:20211219T100000
DTEND;VALUE=DATE-TIME:20211219T120000
DTSTAMP:20260421T050424
CREATED:20211101T103837
LAST-MODIFIED:20211101T103837
UID:27737-1639908000-1639915200@https://science-hills-komatsu.jp/wp
SUMMARY:ヒルズカップ「進め！救急搬送支援ロボ」競技前練習（事前申込・先着順）
DESCRIPTION:1月9日(日)に開催のヒルズカップ「進め！救急搬送支援ロボ」に参加する皆さんのための競技前練習を開催します。   （1月9日のヒルズカップについてはこちらから）  練習は一人8回までとさせていただきます。   12月18日(土)、19日(日)、26日(日)、28日(火)　1月4日(火)、5日(水)、6日(木)、7日(金)   　10：00～12：00、13：30～15：30　お申し込みはこちら   1月8日(土)　10：00～12：00　お申し込みはこちら  課題内容   指令を読み取って、2種類ある病院のどちらかにワクチンを届け、2人の患者のどちらかに酸素吸入器剤を届ける。   　スタート → 指令読み取り → ワクチン積み込み → 病院に配達 → 酸素吸入器剤積み込み → 患者宅に配達  コース     ワクチン     酸素吸入機材   
URL:https://science-hills-komatsu.jp/wp/event/wbjahlscpprac2022/2021-12-19/
CATEGORIES:イベント情報
END:VEVENT
BEGIN:VEVENT
DTSTART;VALUE=DATE-TIME:20211219T133000
DTEND;VALUE=DATE-TIME:20211219T153000
DTSTAMP:20260421T050424
CREATED:20211016T200132
LAST-MODIFIED:20211016T200132
UID:27663-1639920600-1639927800@https://science-hills-komatsu.jp/wp
SUMMARY:体験教室「分子模型作り講座〈バラの香りの分子〉｣(事前申込・先着順)
DESCRIPTION:「分子模型作り」のシリーズです。毎月１回の実施を予定しています。連続参加でも、単発参加でもOK！どうぞお気軽にお集まりください。  分子構造を知ること、似ているものを見比べることから新たな発見があるかもしれません！直接目では見えない、小さな小さな世界では、どのようになっているのでしょうか。想像、発見、模型作り、納得…、様々な体験から学んでみませんか。  &nbsp;  お申込はこちら　※11/10 午前８時受付開始、赤色のご予約ボタンが表示されます。  4月実施の分子模型作り&lt;アミノ酸の分子&gt;完成作品    &nbsp;
URL:https://science-hills-komatsu.jp/wp/event/27662/2021-12-19/
ATTACH;FMTTYPE=image/png:https://science-hills-komatsu.jp/wp/wp-content/uploads/2019/10/kagaku_bunshi.png
END:VEVENT
END:VCALENDAR