BEGIN:VCALENDAR
VERSION:2.0
PRODID:-//サイエンスヒルズこまつ - ECPv3.9.1//NONSGML v1.0//EN
CALSCALE:GREGORIAN
METHOD:PUBLISH
X-WR-CALNAME:サイエンスヒルズこまつ
X-ORIGINAL-URL:https://science-hills-komatsu.jp/wp
X-WR-CALDESC:Events for サイエンスヒルズこまつ
X-WR-TIMEZONE:Asia/Tokyo
BEGIN:VEVENT
DTSTART;VALUE=DATE-TIME:20211213T073000
DTEND;VALUE=DATE-TIME:20211213T170000
DTSTAMP:20260421T062844
CREATED:20210220T154619
LAST-MODIFIED:20210220T154619
UID:25074-1639380600-1639414800@https://science-hills-komatsu.jp/wp
SUMMARY:休館日
DESCRIPTION:
URL:https://science-hills-komatsu.jp/wp/event/25060/2021-12-13/
CATEGORIES:休館日
END:VEVENT
END:VCALENDAR