BEGIN:VCALENDAR
VERSION:2.0
PRODID:-//サイエンスヒルズこまつ - ECPv3.9.1//NONSGML v1.0//EN
CALSCALE:GREGORIAN
METHOD:PUBLISH
X-WR-CALNAME:サイエンスヒルズこまつ
X-ORIGINAL-URL:https://science-hills-komatsu.jp/wp
X-WR-CALDESC:Events for サイエンスヒルズこまつ
X-WR-TIMEZONE:Asia/Tokyo
BEGIN:VEVENT
DTSTART;VALUE=DATE-TIME:20211211T100000
DTEND;VALUE=DATE-TIME:20211211T113000
DTSTAMP:20260421T050452
CREATED:20211030T143722
LAST-MODIFIED:20211030T143722
UID:27718-1639216800-1639222200@https://science-hills-komatsu.jp/wp
SUMMARY:体験教室「プログラミング教室」（事前申込・先着順）
DESCRIPTION:プログラミングを体験してみたい皆さんに、レゴのロボット（マインドストームEV3）を使って荷物運びの課題に挑戦してもらいます。タイヤを動かすモーターとフレームを動かすモーターを使って、プラスチックの枠に入ったビー玉を決められた場所に移動させる課題です。今年前半に開催した「中級クラス」に参加していなくてもOKです。（お子様一人で参加してもらいます。）  お申込みはこちらから   （11月10日午前8時より受付開始）
URL:https://science-hills-komatsu.jp/wp/event/jvtqprogram1211/
CATEGORIES:イベント情報
ATTACH;FMTTYPE=image/jpeg:https://science-hills-komatsu.jp/wp/wp-content/uploads/2021/10/lego1211.jpg
END:VEVENT
BEGIN:VEVENT
DTSTART;VALUE=DATE-TIME:20211211T131000
DTEND;VALUE=DATE-TIME:20211211T163000
DTSTAMP:20260421T050452
CREATED:20211016T195749
LAST-MODIFIED:20211016T195749
UID:27661-1639228200-1639240200@https://science-hills-komatsu.jp/wp
SUMMARY:体験教室「だんだんケーキを作ってお家で食べよう」（事前申込・先着順）
DESCRIPTION:　毎日必ず摂る“食”は、とくに気になりますよね！  　クリスマスが近づいてきました。自分自身で苺たっぷりのケーキを作ってみませんか。  ご家族やお友達同士で、ワイワイと作る・知る・食べる楽しみを満喫しましょう！  &nbsp;  お申込みはこちら　※11/10午前8時より受付開始。赤色のご予約ボタンが表示されます。  【写真】イチゴさくらもちを作って、お家でたべよう！の様子  
URL:https://science-hills-komatsu.jp/wp/event/27661/
CATEGORIES:イベント情報
ATTACH;FMTTYPE=image/png:https://science-hills-komatsu.jp/wp/wp-content/uploads/2018/07/5f37ebb8a25a4d03dc1ec32c98799b44-e1530538761398.png
END:VEVENT
END:VCALENDAR