BEGIN:VCALENDAR
VERSION:2.0
PRODID:-//サイエンスヒルズこまつ - ECPv3.9.1//NONSGML v1.0//EN
CALSCALE:GREGORIAN
METHOD:PUBLISH
X-WR-CALNAME:サイエンスヒルズこまつ
X-ORIGINAL-URL:https://science-hills-komatsu.jp/wp
X-WR-CALDESC:Events for サイエンスヒルズこまつ
X-WR-TIMEZONE:Asia/Tokyo
BEGIN:VEVENT
DTSTART;VALUE=DATE-TIME:20211205T103000
DTEND;VALUE=DATE-TIME:20211205T150000
DTSTAMP:20260421T050426
CREATED:20211016T194325
LAST-MODIFIED:20211114T102111
UID:27634-1638700200-1638716400@https://science-hills-komatsu.jp/wp
SUMMARY:体験教室「 2022年寅・干支キャンドルを作ろう」（事前申込・先着順）
DESCRIPTION:今年もやって来ました！干支キャンドル作りです♪2022年は「寅」。  パラフィンを溶かして冷やしながら、大人も子どもも...楽しく作りませんか。ご家族皆さんで参加されるケースも多いですよ♪玄関やお部屋に飾りませんか。ぜひこの機会にご参加下さいね。  ものづくりが大好きなみなさん！ロウが溶けた状態から、ゆっくり冷まし固まって行く工程もしっかり体感しましょう。会話も楽しみながら一緒にキャンドルをつくりましょう！！    今年の干支〝丑〟。来年は〝寅〟にバトンタッチ！  お申込はこちら　11/10午前８時になると、赤色のご予約ボタンが表示されます。  &nbsp;  これまでの体験の様子   キャンドルは製作工程の中で、温度が大切。ものづくりにみんなが真剣に取り組んでいる表情です♪     
URL:https://science-hills-komatsu.jp/wp/event/27634/2021-12-05/
CATEGORIES:イベント情報
ATTACH;FMTTYPE=image/jpeg:https://science-hills-komatsu.jp/wp/wp-content/uploads/2021/10/tempImageoUAN09.jpg
END:VEVENT
BEGIN:VEVENT
DTSTART;VALUE=DATE-TIME:20211205T131000
DTEND;VALUE=DATE-TIME:20211205T141000
DTSTAMP:20260421T050426
CREATED:20211016T195036
LAST-MODIFIED:20211016T195036
UID:27660-1638709800-1638713400@https://science-hills-komatsu.jp/wp
SUMMARY:体験教室「４連射輪ゴム銃をつくろう！」（当日受付・先着順）
DESCRIPTION:理科専門員による体験教室です。  ものづくりを楽しみませんか。昔なつかしい、輪ゴム銃。しかし！今回つくるのは、４連射輪ゴム銃！無事に4連射になるのか！？  作ったら、的をねらって遊んでみよう！
URL:https://science-hills-komatsu.jp/wp/event/27660/
CATEGORIES:イベント情報
ATTACH;FMTTYPE=image/jpeg:https://science-hills-komatsu.jp/wp/wp-content/uploads/2021/04/DSCN9968.jpg
END:VEVENT
BEGIN:VEVENT
DTSTART;VALUE=DATE-TIME:20211205T160000
DTEND;VALUE=DATE-TIME:20211205T165000
DTSTAMP:20260421T050426
CREATED:20211129T122355
LAST-MODIFIED:20211129T122355
UID:27820-1638720000-1638723000@https://science-hills-komatsu.jp/wp
SUMMARY:Ｋ☆Ｔ☆Ｎの時間 はやぶさ２の挑戦 リュウグウの追憶
DESCRIPTION:はやぶさ2の地球帰還から1年・・   ・・・今、リュウグウは何を思う・・・  2018年、惑星探査機はやぶさ2が、目標の天体であるリュウグウに到着。  その後、数々の困難なミッションを成功におさめ、2020年12月6日、地球に見事帰還！  数年以上にも及ぶ、はやぶさ２の探査ミッションを振り返るとともに、リュウグウが感じたこととは・・・。  地球帰還によって世界から注目を集めた探査機はやぶさ２に、   リュウグウの視点からアプローチした話題の異色作！  12/4(土)､５(日) 16:00～       
URL:https://science-hills-komatsu.jp/wp/event/27819/2021-12-05/
ATTACH;FMTTYPE=image/png:https://science-hills-komatsu.jp/wp/wp-content/uploads/2018/06/Ans_Hayabusa2_4k_FD_1671-e1528849830157.png
END:VEVENT
END:VCALENDAR