BEGIN:VCALENDAR
VERSION:2.0
PRODID:-//サイエンスヒルズこまつ - ECPv3.9.1//NONSGML v1.0//EN
CALSCALE:GREGORIAN
METHOD:PUBLISH
X-WR-CALNAME:サイエンスヒルズこまつ
X-ORIGINAL-URL:https://science-hills-komatsu.jp/wp
X-WR-CALDESC:Events for サイエンスヒルズこまつ
X-WR-TIMEZONE:Asia/Tokyo
BEGIN:VEVENT
DTSTART;VALUE=DATE-TIME:20211121T100000
DTEND;VALUE=DATE-TIME:20211121T144000
DTSTAMP:20260421T062914
CREATED:20211004T095225
LAST-MODIFIED:20211004T095225
UID:27585-1637488800-1637505600@https://science-hills-komatsu.jp/wp
SUMMARY:四ヶ浦弘先生による体験教室 銅の不思議を探る〈青銅鏡と黄銅の針金バッジを作ろう〉(事前申込・先着順)
DESCRIPTION:石のまち小松だからこそ、ぴったりのテーマ  今回は「銅」がテーマです！  尾小屋鉱山は全国有数の銅山でした。鉱石から金属の銅を取り出し、叩いて延ばしたりします。小松にゆかりの深い銅の不思議を探ってみましょう。  　四ヶ浦先生が大好きな金属の世界。先生の大好きが伝わる教室でもあります♪高校時代にこんな先生に出会っていたら、〝化学〟が好きになっていたかも…大人の方なら感じるかも知れません。鉱物が好きなみんなも、ぜひ参加してみてくださいね。  四ヶ浦弘先生は、高校で化学を担当。退職後は金沢の特産品の金、銀、白金箔をサイエンスに使い、科学の楽しさを伝えています。  講師：四ヶ浦弘先生  お申し込みはこちら　※10/10午前８時より、赤色のご予約ボタンが表示されます。
URL:https://science-hills-komatsu.jp/wp/event/27585/
CATEGORIES:イベント情報
ATTACH;FMTTYPE=image/jpeg:https://science-hills-komatsu.jp/wp/wp-content/uploads/2019/05/1115b389b00fed7fa8766154fa40f884.jpg
END:VEVENT
END:VCALENDAR