BEGIN:VCALENDAR
VERSION:2.0
PRODID:-//サイエンスヒルズこまつ - ECPv3.9.1//NONSGML v1.0//EN
CALSCALE:GREGORIAN
METHOD:PUBLISH
X-WR-CALNAME:サイエンスヒルズこまつ
X-ORIGINAL-URL:https://science-hills-komatsu.jp/wp
X-WR-CALDESC:Events for サイエンスヒルズこまつ
X-WR-TIMEZONE:Asia/Tokyo
BEGIN:VEVENT
DTSTART;VALUE=DATE-TIME:20200729T110000
DTEND;VALUE=DATE-TIME:20200729T143000
DTSTAMP:20260421T123646
CREATED:20200612T154001
LAST-MODIFIED:20200612T154103
UID:23139-1596020400-1596033000@https://science-hills-komatsu.jp/wp
SUMMARY:体験教室「釣り糸一本でギターを作ろう」（当日受付・先着順）
DESCRIPTION:理科専門員による体験教室です。  ものづくりを楽しみませんか。釣り糸１本で音階がとれるの！？  さぁ、一緒に作ってみましょう！
URL:https://science-hills-komatsu.jp/wp/event/23138/2020-07-29/
CATEGORIES:イベント情報
ATTACH;FMTTYPE=image/jpeg:https://science-hills-komatsu.jp/wp/wp-content/uploads/2020/02/DSCN9970-1-e1581300210727.jpg
END:VEVENT
END:VCALENDAR